BEGIN:VCALENDAR
VERSION:2.0
PRODID:-//Contratero//ES
CALSCALE:GREGORIAN
METHOD:PUBLISH
BEGIN:VEVENT
UID:14/25 TIC@contratero.es
DTSTAMP:20260422T104317Z
DTSTART:20260209T235959
DTEND:20260210T005959
SUMMARY:Cierre: Contrato mixto de suministro de licencias y servic
DESCRIPTION:Contrato mixto de suministro de licencias y servicios para la Implantación\, Soporte y Evolución de una Plataforma de\nInformación de la Red de Mercas\\n\\nOrganismo: Empresa Estatal Mercados Centrales de Abastecimiento SA (MERCASA)\\n\\nVer en Contratero: https://contratero.es/contracts/14/25 TIC
URL:https://contratero.es/contracts/14/25 TIC
STATUS:CONFIRMED
BEGIN:VALARM
TRIGGER:-P1D
ACTION:DISPLAY
DESCRIPTION:Recordatorio: Contrato mixto de suministro d
END:VALARM
END:VEVENT
END:VCALENDAR